BEGIN:VCALENDAR
METHOD:PUBLISH
PRODID:-//Weblication CMS
VERSION:2.0
BEGIN:VEVENT
SUMMARY:Microstructure and metallography of steels
DTSTART:20270127T000000
DTEND:20270128T235959
DESCRIPTION:The seminar teaches the basics of metallography and explains the relationships between the various structural elements and their properties.
LOCATION:
UID:https://www.awt-online.org/awt-en/events/dates/seminars/20270000-se-Gefuege-und-Metallografie-der-Staehle.php
URL:https://www.awt-online.org/awt-en/events/dates/seminars/20270000-se-Gefuege-und-Metallografie-der-Staehle.php
END:VEVENT
END:VCALENDAR